BEGIN:VCALENDAR
VERSION:2.0
PRODID:-//www.clcnwi.com//NONSGML kigkonsult.se iCalcreator 2.30.10//
CALSCALE:GREGORIAN
METHOD:PUBLISH
UID:d8ce30ef-42fb-4342-ae34-dbcdb24e6763
X-WR-CALDESC:
X-WR-RELCALID:0fb4c2b28f6f73b77243984cda499832
X-WR-TIMEZONE:America/Chicago
BEGIN:VTIMEZONE
TZID:America/Chicago
BEGIN:STANDARD
TZNAME:CST
DTSTART:20211107T020000
TZOFFSETFROM:-0500
TZOFFSETTO:-0600
RDATE:20221106T020000
END:STANDARD
BEGIN:DAYLIGHT
TZNAME:CDT
DTSTART:20210314T020000
TZOFFSETFROM:-0600
TZOFFSETTO:-0500
RDATE:20220313T020000
RDATE:20230312T020000
END:DAYLIGHT
END:VTIMEZONE
BEGIN:VEVENT
UID:5c5eda42-b544-45b1-bc9c-37574cc7134b
DTSTAMP:20260423T210033Z
DESCRIPTION:
DTSTART;TZID=America/Chicago:20220212T170000
DTEND;TZID=America/Chicago:20220212T200000
LOCATION:2300 173rd Street\, On Purdue Northwest Campus\, Hammond\, IN 4632
 3 US
SUMMARY:Red Planet Romance Valentine's Event
END:VEVENT
END:VCALENDAR
