BEGIN:VCALENDAR
VERSION:2.0
PRODID:-//www.clcnwi.com//NONSGML kigkonsult.se iCalcreator 2.30.10//
CALSCALE:GREGORIAN
METHOD:PUBLISH
UID:03c93574-e0d3-41ae-b87a-1fc03b38733c
X-WR-CALDESC:
X-WR-RELCALID:1e47c6277bb66a1f2a96dee984f35083
X-WR-TIMEZONE:America/Chicago
BEGIN:VTIMEZONE
TZID:America/Chicago
BEGIN:STANDARD
TZNAME:CST
DTSTART:20211107T020000
TZOFFSETFROM:-0500
TZOFFSETTO:-0600
RDATE:20221106T020000
END:STANDARD
BEGIN:DAYLIGHT
TZNAME:CDT
DTSTART:20210314T020000
TZOFFSETFROM:-0600
TZOFFSETTO:-0500
RDATE:20220313T020000
RDATE:20230312T020000
END:DAYLIGHT
END:VTIMEZONE
BEGIN:VEVENT
UID:24e253db-fea6-4f77-b7e8-e37a35b22bec
DTSTAMP:20260424T145558Z
DESCRIPTION:
DTSTART;TZID=America/Chicago:20220121T140000
DTEND;TZID=America/Chicago:20220121T150000
LOCATION:Challenger Learning Center of Northwest Indiana
SUMMARY:Pride in the Sky PNW Event
END:VEVENT
END:VCALENDAR
