BEGIN:VCALENDAR
VERSION:2.0
PRODID:-//www.clcnwi.com//NONSGML kigkonsult.se iCalcreator 2.30.10//
CALSCALE:GREGORIAN
METHOD:PUBLISH
UID:1635ba88-e18f-4797-a1d6-d2e57fe734e3
X-WR-CALDESC:
X-WR-RELCALID:f4ed0166b4ad9d3dc4da207e3cb36bf4
X-WR-TIMEZONE:America/Chicago
BEGIN:VTIMEZONE
TZID:America/Chicago
BEGIN:STANDARD
TZNAME:CST
DTSTART:20211107T020000
TZOFFSETFROM:-0500
TZOFFSETTO:-0600
RDATE:20221106T020000
END:STANDARD
BEGIN:DAYLIGHT
TZNAME:CDT
DTSTART:20210314T020000
TZOFFSETFROM:-0600
TZOFFSETTO:-0500
RDATE:20220313T020000
RDATE:20230312T020000
END:DAYLIGHT
END:VTIMEZONE
BEGIN:VEVENT
UID:33ee96c4-fb4d-4062-83f8-e7d8b0511267
DTSTAMP:20260423T235024Z
DESCRIPTION:
DTSTART;TZID=America/Chicago:20211217T160000
DTEND;TZID=America/Chicago:20211217T170000
LOCATION:
SUMMARY:Laser Holiday Light Show 4 PM
END:VEVENT
END:VCALENDAR
