BEGIN:VCALENDAR
VERSION:2.0
PRODID:-//www.clcnwi.com//NONSGML kigkonsult.se iCalcreator 2.30.10//
CALSCALE:GREGORIAN
METHOD:PUBLISH
UID:d9cb6f6f-8fd7-4683-91c0-da43a3671661
X-WR-CALDESC:
X-WR-RELCALID:520328c3a6c9c58bf8a55659c8d9386c
X-WR-TIMEZONE:America/Chicago
BEGIN:VTIMEZONE
TZID:America/Chicago
BEGIN:STANDARD
TZNAME:CST
DTSTART:20201101T020000
TZOFFSETFROM:-0500
TZOFFSETTO:-0600
RDATE:20211107T020000
RDATE:20221106T020000
END:STANDARD
BEGIN:DAYLIGHT
TZNAME:CDT
DTSTART:20210314T020000
TZOFFSETFROM:-0600
TZOFFSETTO:-0500
RDATE:20220313T020000
RDATE:20230312T020000
END:DAYLIGHT
END:VTIMEZONE
BEGIN:VEVENT
UID:8586fa54-394e-461d-97b1-513cf69d668a
DTSTAMP:20260424T024621Z
DESCRIPTION:
DTSTART;TZID=America/Chicago:20211030T123000
DTEND;TZID=America/Chicago:20211030T133000
LOCATION:
SUMMARY:Fright Light Halloween Laser Show 12:30 PM Show
END:VEVENT
END:VCALENDAR
