BEGIN:VCALENDAR
VERSION:2.0
PRODID:-//www.clcnwi.com//NONSGML kigkonsult.se iCalcreator 2.30.10//
CALSCALE:GREGORIAN
METHOD:PUBLISH
UID:83e251b3-e20a-4e89-acb7-ed497157ce73
X-WR-CALDESC:
X-WR-RELCALID:0ff94c4cb100d158fb6b7e3459a95e3e
X-WR-TIMEZONE:America/Chicago
BEGIN:VTIMEZONE
TZID:America/Chicago
BEGIN:STANDARD
TZNAME:CST
DTSTART:20201101T020000
TZOFFSETFROM:-0500
TZOFFSETTO:-0600
RDATE:20211107T020000
RDATE:20221106T020000
END:STANDARD
BEGIN:DAYLIGHT
TZNAME:CDT
DTSTART:20210314T020000
TZOFFSETFROM:-0600
TZOFFSETTO:-0500
RDATE:20220313T020000
RDATE:20230312T020000
END:DAYLIGHT
END:VTIMEZONE
BEGIN:VEVENT
UID:b5ca471f-ba0d-4d7e-a75b-231144b386b7
DTSTAMP:20260424T024523Z
DESCRIPTION:
DTSTART;TZID=America/Chicago:20211030T110000
DTEND;TZID=America/Chicago:20211030T120000
LOCATION:
SUMMARY:Fright Light Halloween Laser Show 11 AM Show
END:VEVENT
END:VCALENDAR
