BEGIN:VCALENDAR
VERSION:2.0
PRODID:-//www.clcnwi.com//NONSGML kigkonsult.se iCalcreator 2.30.10//
CALSCALE:GREGORIAN
METHOD:PUBLISH
UID:73a6dea9-8b8a-4d4a-9bd1-802405ef3787
X-WR-CALDESC:
X-WR-RELCALID:e3fc74bb6ba78d6f59c1d39f9dffc554
X-WR-TIMEZONE:America/Chicago
BEGIN:VTIMEZONE
TZID:America/Chicago
BEGIN:STANDARD
TZNAME:CST
DTSTART:20201101T020000
TZOFFSETFROM:-0500
TZOFFSETTO:-0600
RDATE:20211107T020000
RDATE:20221106T020000
END:STANDARD
BEGIN:DAYLIGHT
TZNAME:CDT
DTSTART:20210314T020000
TZOFFSETFROM:-0600
TZOFFSETTO:-0500
RDATE:20220313T020000
END:DAYLIGHT
END:VTIMEZONE
BEGIN:VEVENT
UID:ab4a0a75-91db-4658-9435-bfd81803e372
DTSTAMP:20260424T052820Z
DESCRIPTION:
DTSTART;TZID=America/Chicago:20210820T180000
DTEND;TZID=America/Chicago:20210820T190000
LOCATION:The Challenger Learning Center of Northwest Indiana (on the campus
  of Purdue University Northwest)
SUMMARY:Laser Led Zeppelin Light Show 6 PM
END:VEVENT
END:VCALENDAR
