BEGIN:VCALENDAR
VERSION:2.0
PRODID:-//www.clcnwi.com//NONSGML kigkonsult.se iCalcreator 2.30.10//
CALSCALE:GREGORIAN
METHOD:PUBLISH
UID:2e11239e-d995-4074-93f1-8054142d48d1
X-WR-CALDESC:
X-WR-RELCALID:7d20f373126627a0e28162c28e162b29
X-WR-TIMEZONE:America/Chicago
BEGIN:VTIMEZONE
TZID:America/Chicago
BEGIN:STANDARD
TZNAME:CST
DTSTART:20201101T020000
TZOFFSETFROM:-0500
TZOFFSETTO:-0600
RDATE:20211107T020000
RDATE:20221106T020000
END:STANDARD
BEGIN:DAYLIGHT
TZNAME:CDT
DTSTART:20210314T020000
TZOFFSETFROM:-0600
TZOFFSETTO:-0500
RDATE:20220313T020000
END:DAYLIGHT
END:VTIMEZONE
BEGIN:VEVENT
UID:eeda44a5-9129-4a69-941e-17ff09ae74c5
DTSTAMP:20260424T065656Z
DESCRIPTION:
DTSTART;TZID=America/Chicago:20210709T183000
DTEND;TZID=America/Chicago:20210709T193000
LOCATION:The Challenger Learning Center of Northwest Indiana (on the campus
  of Purdue University Northwest)
SUMMARY:Laser Spirit Independence Day Light Show 6:30 PM
END:VEVENT
END:VCALENDAR
