BEGIN:VCALENDAR
VERSION:2.0
PRODID:-//www.clcnwi.com//NONSGML kigkonsult.se iCalcreator 2.30.10//
CALSCALE:GREGORIAN
METHOD:PUBLISH
UID:5144f74d-9fc7-408f-92eb-498be0c4a611
X-WR-CALDESC:
X-WR-RELCALID:8d90c7434ac315942ffadedc89994542
X-WR-TIMEZONE:America/Chicago
BEGIN:VTIMEZONE
TZID:America/Chicago
BEGIN:STANDARD
TZNAME:CST
DTSTART:20201101T020000
TZOFFSETFROM:-0500
TZOFFSETTO:-0600
RDATE:20211107T020000
RDATE:20221106T020000
END:STANDARD
BEGIN:DAYLIGHT
TZNAME:CDT
DTSTART:20210314T020000
TZOFFSETFROM:-0600
TZOFFSETTO:-0500
RDATE:20220313T020000
END:DAYLIGHT
END:VTIMEZONE
BEGIN:VEVENT
UID:66e598b7-8988-4410-ba19-a38643ec032c
DTSTAMP:20260424T064537Z
DESCRIPTION:
DTSTART;TZID=America/Chicago:20210709T170000
DTEND;TZID=America/Chicago:20210709T180000
LOCATION:The Challenger Learning Center of Northwest Indiana (on the campus
  of Purdue University Northwest)
SUMMARY:Laser Spirit Independence Day Light Show 5 PM
END:VEVENT
END:VCALENDAR
