BEGIN:VCALENDAR
VERSION:2.0
PRODID:-//www.clcnwi.com//NONSGML kigkonsult.se iCalcreator 2.30.10//
CALSCALE:GREGORIAN
METHOD:PUBLISH
UID:7e626b75-f0a5-40e9-bc97-5c32f67e5aa5
X-WR-CALDESC:
X-WR-RELCALID:c6295495f34961cc7d9cc7568621fe13
X-WR-TIMEZONE:America/Chicago
BEGIN:VTIMEZONE
TZID:America/Chicago
BEGIN:STANDARD
TZNAME:CST
DTSTART:20201101T020000
TZOFFSETFROM:-0500
TZOFFSETTO:-0600
RDATE:20211107T020000
END:STANDARD
BEGIN:DAYLIGHT
TZNAME:CDT
DTSTART:20210314T020000
TZOFFSETFROM:-0600
TZOFFSETTO:-0500
RDATE:20220313T020000
END:DAYLIGHT
END:VTIMEZONE
BEGIN:VEVENT
UID:4a9b3fd3-12c8-4e7e-9db0-855e9fef987e
DTSTAMP:20260424T093028Z
DESCRIPTION:
DTSTART;TZID=America/Chicago:20210504T190000
DTEND;TZID=America/Chicago:20210504T210000
LOCATION:
SUMMARY:May the Fourth: Star Trivia Wars
END:VEVENT
END:VCALENDAR
