BEGIN:VCALENDAR
VERSION:2.0
PRODID:-//www.clcnwi.com//NONSGML kigkonsult.se iCalcreator 2.30.10//
CALSCALE:GREGORIAN
METHOD:PUBLISH
UID:7e88037a-808c-4876-bc7e-2aafec4c862f
X-WR-CALDESC:
X-WR-RELCALID:b15ec4da68c78e2be9babf1d6ca67a6b
X-WR-TIMEZONE:America/Chicago
BEGIN:VTIMEZONE
TZID:America/Chicago
BEGIN:STANDARD
TZNAME:CST
DTSTART:20201101T020000
TZOFFSETFROM:-0500
TZOFFSETTO:-0600
RDATE:20211107T020000
END:STANDARD
BEGIN:DAYLIGHT
TZNAME:CDT
DTSTART:20210314T020000
TZOFFSETFROM:-0600
TZOFFSETTO:-0500
RDATE:20220313T020000
END:DAYLIGHT
END:VTIMEZONE
BEGIN:VEVENT
UID:f85ff50a-149b-4f99-a999-9cb54c1a2eec
DTSTAMP:20260424T122559Z
DESCRIPTION:
DTSTART;TZID=America/Chicago:20210331T140000
DTEND;TZID=America/Chicago:20210331T150000
LOCATION:
SUMMARY:Spring Break Pop Up 2 PM
END:VEVENT
END:VCALENDAR
