BEGIN:VCALENDAR
VERSION:2.0
PRODID:-//www.clcnwi.com//NONSGML kigkonsult.se iCalcreator 2.30.10//
CALSCALE:GREGORIAN
METHOD:PUBLISH
UID:8a58a440-aeda-4d85-9083-c9876763c281
X-WR-CALDESC:
X-WR-RELCALID:5064cab2de8d549796b92bb67c313c00
X-WR-TIMEZONE:America/Chicago
BEGIN:VTIMEZONE
TZID:America/Chicago
BEGIN:STANDARD
TZNAME:CST
DTSTART:20201101T020000
TZOFFSETFROM:-0500
TZOFFSETTO:-0600
RDATE:20211107T020000
END:STANDARD
BEGIN:DAYLIGHT
TZNAME:CDT
DTSTART:20210314T020000
TZOFFSETFROM:-0600
TZOFFSETTO:-0500
RDATE:20220313T020000
END:DAYLIGHT
END:VTIMEZONE
BEGIN:VEVENT
UID:5327bfe1-1fde-4d7b-af9a-c3f6944b87b4
DTSTAMP:20260424T122820Z
DESCRIPTION:
DTSTART;TZID=America/Chicago:20210331T100000
DTEND;TZID=America/Chicago:20210331T110000
LOCATION:
SUMMARY:Spring Break Pop Up 10 AM
END:VEVENT
END:VCALENDAR
