BEGIN:VCALENDAR
VERSION:2.0
PRODID:-//www.clcnwi.com//NONSGML kigkonsult.se iCalcreator 2.30.10//
CALSCALE:GREGORIAN
METHOD:PUBLISH
UID:d6e9a200-e617-42c9-982d-f4a367894a14
X-WR-CALDESC:Valentines Date Night\, Fly Your Sweetie to the Moon! - FEBRUA
 RY 13th 2021\n\nLooking for an out-of-this-world date night? Look no furth
 er!  This Valentine's Day show your sweetie that you love them to the moon
  and back with a date night you'll never forget!\n\nReservations are requi
 red\n1 General Admission Ticket = 2 people (1 couple)\n
X-WR-RELCALID:b0f6a35b34dcc6b30d3d89be99a73f41
X-WR-TIMEZONE:America/Chicago
BEGIN:VTIMEZONE
TZID:America/Chicago
BEGIN:STANDARD
TZNAME:CST
DTSTART:20201101T020000
TZOFFSETFROM:-0500
TZOFFSETTO:-0600
RDATE:20211107T020000
END:STANDARD
BEGIN:DAYLIGHT
TZNAME:CDT
DTSTART:20200308T020000
TZOFFSETFROM:-0600
TZOFFSETTO:-0500
RDATE:20210314T020000
RDATE:20220313T020000
END:DAYLIGHT
END:VTIMEZONE
BEGIN:VEVENT
UID:1e6804e3-bf2b-43df-9e31-e1ce4b2e2659
DTSTAMP:20260424T135924Z
DESCRIPTION:Valentines Date Night\, Fly Your Sweetie to the Moon! - FEBRUAR
 Y 13th 2021\n\nLooking for an out-of-this-world date night? Look no furthe
 r!  This Valentine's Day show your sweetie that you love them to the moon 
 and back with a date night you'll never forget!\n\nReservations are requir
 ed\n1 General Admission Ticket = 2 people (1 couple)\n
DTSTART;TZID=America/Chicago:20210213T170000
DTEND;TZID=America/Chicago:20210213T183000
LOCATION:The Challenger Learning Center of Northwest Indiana (on the campus
  of Purdue University Northwest)
SUMMARY:Fly Your Sweetie to the Moon 5:00 PM
END:VEVENT
END:VCALENDAR
