BEGIN:VCALENDAR
VERSION:2.0
PRODID:-//www.clcnwi.com//NONSGML kigkonsult.se iCalcreator 2.30.10//
CALSCALE:GREGORIAN
METHOD:PUBLISH
UID:d0ed533a-b73b-4951-b6e3-f123cf4402e0
X-WR-CALDESC:Valentines Date Night\, Fly Your Sweetie to the Moon! - FEBRUA
 RY 13th 2021\n\nLooking for an out-of-this-world date night? Look no furth
 er!  This Valentine's Day show your sweetie that you love them to the moon
  and back with a date night you'll never forget!\n\nReservations are requi
 red\n1 General Admission Ticket = 2 people (1 couple)\n
X-WR-RELCALID:de1d1bc1a53edc859f42315665fe9fbc
X-WR-TIMEZONE:America/Chicago
BEGIN:VTIMEZONE
TZID:America/Chicago
BEGIN:STANDARD
TZNAME:CST
DTSTART:20201101T020000
TZOFFSETFROM:-0500
TZOFFSETTO:-0600
RDATE:20211107T020000
END:STANDARD
BEGIN:DAYLIGHT
TZNAME:CDT
DTSTART:20200308T020000
TZOFFSETFROM:-0600
TZOFFSETTO:-0500
RDATE:20210314T020000
RDATE:20220313T020000
END:DAYLIGHT
END:VTIMEZONE
BEGIN:VEVENT
UID:9999e867-d431-4231-8402-8ce6f5107b38
DTSTAMP:20260424T140654Z
DESCRIPTION:Valentines Date Night\, Fly Your Sweetie to the Moon! - FEBRUAR
 Y 13th 2021\n\nLooking for an out-of-this-world date night? Look no furthe
 r!  This Valentine's Day show your sweetie that you love them to the moon 
 and back with a date night you'll never forget!\n\nReservations are requir
 ed\n1 General Admission Ticket = 2 people (1 couple)\n
DTSTART;TZID=America/Chicago:20210213T150000
DTEND;TZID=America/Chicago:20210213T163000
LOCATION:The Challenger Learning Center of Northwest Indiana (on the campus
  of Purdue University Northwest)
SUMMARY:Fly Your Sweetie to the Moon 3:00 PM
END:VEVENT
END:VCALENDAR
