BEGIN:VCALENDAR
VERSION:2.0
PRODID:-//www.clcnwi.com//NONSGML kigkonsult.se iCalcreator 2.30.10//
CALSCALE:GREGORIAN
METHOD:PUBLISH
UID:32f4de1b-913d-47ba-a1ed-3fc58d467596
X-WR-CALDESC:
X-WR-RELCALID:d56a16c7dd0f01c7968f4c890d1444ed
X-WR-TIMEZONE:America/Chicago
BEGIN:VTIMEZONE
TZID:America/Chicago
BEGIN:STANDARD
TZNAME:CST
DTSTART:20201101T020000
TZOFFSETFROM:-0500
TZOFFSETTO:-0600
RDATE:20211107T020000
END:STANDARD
BEGIN:DAYLIGHT
TZNAME:CDT
DTSTART:20200308T020000
TZOFFSETFROM:-0600
TZOFFSETTO:-0500
RDATE:20210314T020000
RDATE:20220313T020000
END:DAYLIGHT
END:VTIMEZONE
BEGIN:VEVENT
UID:7f63be05-e454-4cdc-9e5d-11d96be531a2
DTSTAMP:20260424T155636Z
DESCRIPTION:
DTSTART;TZID=America/Chicago:20210128T170000
DTEND;TZID=America/Chicago:20210128T180000
LOCATION:The Challenger Learning Center of Northwest Indiana (on the campus
  of Purdue University Northwest)
SUMMARY:Europa Encounter Public Mission
END:VEVENT
END:VCALENDAR
