BEGIN:VCALENDAR
VERSION:2.0
PRODID:-//www.clcnwi.com//NONSGML kigkonsult.se iCalcreator 2.30.10//
CALSCALE:GREGORIAN
METHOD:PUBLISH
UID:e250c486-460f-402a-8259-09751980dff9
X-WR-CALDESC:
X-WR-RELCALID:6cdb6d914c5bd4acc98603b77af32f28
X-WR-TIMEZONE:America/Chicago
BEGIN:VTIMEZONE
TZID:America/Chicago
BEGIN:STANDARD
TZNAME:CST
DTSTART:20201101T020000
TZOFFSETFROM:-0500
TZOFFSETTO:-0600
RDATE:20211107T020000
END:STANDARD
BEGIN:DAYLIGHT
TZNAME:CDT
DTSTART:20200308T020000
TZOFFSETFROM:-0600
TZOFFSETTO:-0500
RDATE:20210314T020000
RDATE:20220313T020000
END:DAYLIGHT
END:VTIMEZONE
BEGIN:VEVENT
UID:f98b9084-74cc-4685-a8df-1c39266b757a
DTSTAMP:20260424T171558Z
DESCRIPTION:
DTSTART;TZID=America/Chicago:20201219T120000
DTEND;TZID=America/Chicago:20201219T130000
LOCATION:
SUMMARY:Holiday Laser Light Show 12 PM
END:VEVENT
END:VCALENDAR
