BEGIN:VCALENDAR
VERSION:2.0
PRODID:-//www.clcnwi.com//NONSGML kigkonsult.se iCalcreator 2.30.10//
CALSCALE:GREGORIAN
METHOD:PUBLISH
UID:2c3442b3-8d6a-4729-a9f4-683bd82669e2
X-WR-CALDESC:
X-WR-RELCALID:eb5562b413e2cf609c70f8a8ca02aff1
X-WR-TIMEZONE:America/Chicago
BEGIN:VTIMEZONE
TZID:America/Chicago
BEGIN:STANDARD
TZNAME:CST
DTSTART:20201101T020000
TZOFFSETFROM:-0500
TZOFFSETTO:-0600
RDATE:20211107T020000
END:STANDARD
BEGIN:DAYLIGHT
TZNAME:CDT
DTSTART:20200308T020000
TZOFFSETFROM:-0600
TZOFFSETTO:-0500
RDATE:20210314T020000
RDATE:20220313T020000
END:DAYLIGHT
END:VTIMEZONE
BEGIN:VEVENT
UID:9f086f7e-2f95-4153-854c-a095a27b0f5c
DTSTAMP:20260424T171227Z
DESCRIPTION:
DTSTART;TZID=America/Chicago:20201219T133000
DTEND;TZID=America/Chicago:20201219T143000
LOCATION:
SUMMARY:Holiday Laser Light Show 1:30 PM
END:VEVENT
END:VCALENDAR
