BEGIN:VCALENDAR
VERSION:2.0
PRODID:-//www.clcnwi.com//NONSGML kigkonsult.se iCalcreator 2.30.10//
CALSCALE:GREGORIAN
METHOD:PUBLISH
UID:db4eea31-726a-41a9-9f7b-75ea7f709b9f
X-WR-CALDESC:
X-WR-RELCALID:abbdcc3885b7f936ec7b2dd29a326925
X-WR-TIMEZONE:America/Chicago
BEGIN:VTIMEZONE
TZID:America/Chicago
BEGIN:STANDARD
TZNAME:CST
DTSTART:20191103T020000
TZOFFSETFROM:-0500
TZOFFSETTO:-0600
RDATE:20201101T020000
RDATE:20211107T020000
END:STANDARD
BEGIN:DAYLIGHT
TZNAME:CDT
DTSTART:20200308T020000
TZOFFSETFROM:-0600
TZOFFSETTO:-0500
RDATE:20210314T020000
RDATE:20220313T020000
END:DAYLIGHT
END:VTIMEZONE
BEGIN:VEVENT
UID:5bfe3c7d-6063-40eb-b1d7-ae626f30f774
DTSTAMP:20260424T203832Z
DESCRIPTION:
DTSTART;TZID=America/Chicago:20201031T120000
DTEND;TZID=America/Chicago:20201031T130000
LOCATION:
SUMMARY:Fright Light Halloween Laser Show 12 pm Show
END:VEVENT
END:VCALENDAR
