BEGIN:VCALENDAR
VERSION:2.0
PRODID:-//www.clcnwi.com//NONSGML kigkonsult.se iCalcreator 2.30.10//
CALSCALE:GREGORIAN
METHOD:PUBLISH
UID:e525d638-12f2-49c6-a4cd-1271fae092eb
X-WR-CALDESC:
X-WR-RELCALID:02fc15e13109c7786bdcb1424db1e1b2
X-WR-TIMEZONE:America/Chicago
BEGIN:VTIMEZONE
TZID:America/Chicago
BEGIN:STANDARD
TZNAME:CST
DTSTART:20191103T020000
TZOFFSETFROM:-0500
TZOFFSETTO:-0600
RDATE:20201101T020000
RDATE:20211107T020000
END:STANDARD
BEGIN:DAYLIGHT
TZNAME:CDT
DTSTART:20200308T020000
TZOFFSETFROM:-0600
TZOFFSETTO:-0500
RDATE:20210314T020000
RDATE:20220313T020000
END:DAYLIGHT
END:VTIMEZONE
BEGIN:VEVENT
UID:e768c5ad-c265-45c2-96b3-0af18fb05247
DTSTAMP:20260424T204154Z
DESCRIPTION:
DTSTART;TZID=America/Chicago:20201031T133000
DTEND;TZID=America/Chicago:20201031T143000
LOCATION:2300 173rd Street\, Hammond\, IN 46323 US
SUMMARY:Fright Light Halloween Laser Show 1:30 pm Show
END:VEVENT
END:VCALENDAR
