BEGIN:VCALENDAR
VERSION:2.0
PRODID:-//www.clcnwi.com//NONSGML kigkonsult.se iCalcreator 2.30.10//
CALSCALE:GREGORIAN
METHOD:PUBLISH
UID:77bf3007-39f1-4ce2-b120-64ef790ada5b
X-WR-CALDESC:Jealous of kids always getting to have all the fun?  Now it's 
 your turn!  \n\nJoin Challenger for an evening of ROCK & ROLL  featuring m
 usic from one of the most significant rock bands ever - Pink Floyd!\n\nJam
  out to this throwback\, laser light show spectacular and let your inner r
 ock star shine while singing along to one of the most noteworthy albums ev
 er made.\n\n$10 General Admission
X-WR-RELCALID:4c7635154810d83fa2773b78b6423440
X-WR-TIMEZONE:America/Chicago
BEGIN:VTIMEZONE
TZID:America/Chicago
BEGIN:STANDARD
TZNAME:CST
DTSTART:20191103T020000
TZOFFSETFROM:-0500
TZOFFSETTO:-0600
RDATE:20201101T020000
RDATE:20211107T020000
END:STANDARD
BEGIN:DAYLIGHT
TZNAME:CDT
DTSTART:20200308T020000
TZOFFSETFROM:-0600
TZOFFSETTO:-0500
RDATE:20210314T020000
RDATE:20220313T020000
END:DAYLIGHT
END:VTIMEZONE
BEGIN:VEVENT
UID:0b66699c-00df-4c24-a690-f36154648ae4
DTSTAMP:20260424T221432Z
DESCRIPTION:Jealous of kids always getting to have all the fun?  Now it's y
 our turn!  \n\nJoin Challenger for an evening of ROCK & ROLL  featuring mu
 sic from one of the most significant rock bands ever - Pink Floyd!\n\nJam 
 out to this throwback\, laser light show spectacular and let your inner ro
 ck star shine while singing along to one of the most noteworthy albums eve
 r made.\n\n$10 General Admission
DTSTART;TZID=America/Chicago:20200925T193000
DTEND;TZID=America/Chicago:20200925T203000
LOCATION:
SUMMARY:Dark Side of the Moon Laser Show Adults Only 7:30 PM
END:VEVENT
END:VCALENDAR
