BEGIN:VCALENDAR
VERSION:2.0
PRODID:-//www.clcnwi.com//NONSGML kigkonsult.se iCalcreator 2.30.10//
CALSCALE:GREGORIAN
METHOD:PUBLISH
UID:8d6bc375-7367-481b-8a67-1613490a107b
X-WR-CALDESC:
X-WR-RELCALID:1c237f8e198c61fc97443a0b55d839a5
X-WR-TIMEZONE:America/Chicago
BEGIN:VTIMEZONE
TZID:America/Chicago
BEGIN:STANDARD
TZNAME:CST
DTSTART:20191103T020000
TZOFFSETFROM:-0500
TZOFFSETTO:-0600
RDATE:20201101T020000
RDATE:20211107T020000
END:STANDARD
BEGIN:DAYLIGHT
TZNAME:CDT
DTSTART:20200308T020000
TZOFFSETFROM:-0600
TZOFFSETTO:-0500
RDATE:20210314T020000
RDATE:20220313T020000
END:DAYLIGHT
END:VTIMEZONE
BEGIN:VEVENT
UID:56235038-15c5-4516-974f-0ddc49186990
DTSTAMP:20260424T222256Z
DESCRIPTION:
DTSTART;TZID=America/Chicago:20200922T100000
DTEND;TZID=America/Chicago:20200922T120000
LOCATION:2300 173rd Street\, Hammond\, IN 46323
SUMMARY:Home School Adventure Day
END:VEVENT
END:VCALENDAR
