BEGIN:VCALENDAR
VERSION:2.0
PRODID:-//www.clcnwi.com//NONSGML kigkonsult.se iCalcreator 2.30.10//
CALSCALE:GREGORIAN
METHOD:PUBLISH
UID:2919f5d9-f1fc-4b81-9d72-9345b4fe308b
X-WR-CALDESC:Jealous of kids always getting to have all the fun?  Now it's 
 your turn!  \n\nJoin Challenger for an evening of ROCK & ROLL  featuring m
 usic from one of the most significant rock bands ever - Pink Floyd!\n\nJam
  out to this throwback\, laser light show spectacular and let your inner r
 ock star shine while singing along to one of the most noteworthy albums ev
 er made.\n\n$10 General Admission
X-WR-RELCALID:2509c92d13bb203aec4e1dee9520e410
X-WR-TIMEZONE:America/Chicago
BEGIN:VTIMEZONE
TZID:America/Chicago
BEGIN:STANDARD
TZNAME:CST
DTSTART:20191103T020000
TZOFFSETFROM:-0500
TZOFFSETTO:-0600
RDATE:20201101T020000
RDATE:20211107T020000
END:STANDARD
BEGIN:DAYLIGHT
TZNAME:CDT
DTSTART:20200308T020000
TZOFFSETFROM:-0600
TZOFFSETTO:-0500
RDATE:20210314T020000
END:DAYLIGHT
END:VTIMEZONE
BEGIN:VEVENT
UID:1d20dde6-b40a-499f-b711-40793c13deb1
DTSTAMP:20260425T000054Z
DESCRIPTION:Jealous of kids always getting to have all the fun?  Now it's y
 our turn!  \n\nJoin Challenger for an evening of ROCK & ROLL  featuring mu
 sic from one of the most significant rock bands ever - Pink Floyd!\n\nJam 
 out to this throwback\, laser light show spectacular and let your inner ro
 ck star shine while singing along to one of the most noteworthy albums eve
 r made.\n\n$10 General Admission
DTSTART;TZID=America/Chicago:20200822T120000
DTEND;TZID=America/Chicago:20200822T130000
LOCATION:
SUMMARY:Laser Beatles Family Show 12 PM
END:VEVENT
END:VCALENDAR
