BEGIN:VCALENDAR
VERSION:2.0
PRODID:-//www.clcnwi.com//NONSGML kigkonsult.se iCalcreator 2.30.10//
CALSCALE:GREGORIAN
METHOD:PUBLISH
UID:56302e2e-d264-459c-a10b-b18d831f0b65
X-WR-CALDESC:Jealous of kids always getting to have all the fun?  Now it's 
 your turn!  \n\nJoin Challenger for an evening of ROCK & ROLL  featuring m
 usic from one of the most significant rock bands ever - Pink Floyd!\n\nJam
  out to this throwback\, laser light show spectacular and let your inner r
 ock star shine while singing along to one of the most noteworthy albums ev
 er made.\n\n$10 General Admission
X-WR-RELCALID:bd207ebc3c087ef80ad9d8b8c9368776
X-WR-TIMEZONE:America/Chicago
BEGIN:VTIMEZONE
TZID:America/Chicago
BEGIN:STANDARD
TZNAME:CST
DTSTART:20191103T020000
TZOFFSETFROM:-0500
TZOFFSETTO:-0600
RDATE:20201101T020000
RDATE:20211107T020000
END:STANDARD
BEGIN:DAYLIGHT
TZNAME:CDT
DTSTART:20200308T020000
TZOFFSETFROM:-0600
TZOFFSETTO:-0500
RDATE:20210314T020000
END:DAYLIGHT
END:VTIMEZONE
BEGIN:VEVENT
UID:27691fa8-34f8-4630-9d64-603b2280757f
DTSTAMP:20260425T014611Z
DESCRIPTION:Jealous of kids always getting to have all the fun?  Now it's y
 our turn!  \n\nJoin Challenger for an evening of ROCK & ROLL  featuring mu
 sic from one of the most significant rock bands ever - Pink Floyd!\n\nJam 
 out to this throwback\, laser light show spectacular and let your inner ro
 ck star shine while singing along to one of the most noteworthy albums eve
 r made.\n\n$10 General Admission
DTSTART;TZID=America/Chicago:20200717T170000
DTEND;TZID=America/Chicago:20200717T180000
LOCATION:
SUMMARY:Laser Rock & Roll Show Adult Date Night 5 PM
END:VEVENT
END:VCALENDAR
