BEGIN:VCALENDAR
VERSION:2.0
PRODID:-//www.clcnwi.com//NONSGML kigkonsult.se iCalcreator 2.30.10//
CALSCALE:GREGORIAN
METHOD:PUBLISH
UID:bbe55420-a34b-4b2c-b20f-76576d2eef65
X-WR-CALDESC:Jealous of kids always getting to have all the fun?  Now it's 
 your turn!  \n\nJoin Challenger for an evening of ROCK & ROLL  featuring m
 usic from one of the most significant rock bands ever - Pink Floyd!\n\nJam
  out to this throwback\, laser light show spectacular and let your inner r
 ock star shine while singing along to one of the most noteworthy albums ev
 er made.\n\n$10 General Admission
X-WR-RELCALID:253d8318737d5408b4e568f40aa3f4eb
X-WR-TIMEZONE:America/Chicago
BEGIN:VTIMEZONE
TZID:America/Chicago
BEGIN:STANDARD
TZNAME:CST
DTSTART:20191103T020000
TZOFFSETFROM:-0500
TZOFFSETTO:-0600
RDATE:20201101T020000
RDATE:20211107T020000
END:STANDARD
BEGIN:DAYLIGHT
TZNAME:CDT
DTSTART:20200308T020000
TZOFFSETFROM:-0600
TZOFFSETTO:-0500
RDATE:20210314T020000
END:DAYLIGHT
END:VTIMEZONE
BEGIN:VEVENT
UID:ec5842ad-1bf3-4628-a12f-ce6c96292fe8
DTSTAMP:20260425T032608Z
DESCRIPTION:Jealous of kids always getting to have all the fun?  Now it's y
 our turn!  \n\nJoin Challenger for an evening of ROCK & ROLL  featuring mu
 sic from one of the most significant rock bands ever - Pink Floyd!\n\nJam 
 out to this throwback\, laser light show spectacular and let your inner ro
 ck star shine while singing along to one of the most noteworthy albums eve
 r made.\n\n$10 General Admission
DTSTART;TZID=America/Chicago:20200619T190000
DTEND;TZID=America/Chicago:20200619T200000
LOCATION:
SUMMARY:The Wall Adult Only Date Night Event
END:VEVENT
END:VCALENDAR
