BEGIN:VCALENDAR
VERSION:2.0
PRODID:-//www.clcnwi.com//NONSGML kigkonsult.se iCalcreator 2.30.10//
CALSCALE:GREGORIAN
METHOD:PUBLISH
UID:b9a74cac-c57b-4a25-94a9-2b46c997093e
X-WR-CALDESC:Jealous of kids always getting to have all the fun?  Now it's 
 your turn!  \n\nJoin Challenger for an evening of ROCK & ROLL  featuring m
 usic from some of the most significant rock bands ever!\n\nJam out to this
  throwback\, laser light show spectacular and let your inner rock star shi
 ne!\n\n$10 General Admission
X-WR-RELCALID:ded1a1ecddf4d5ffe547958772d73964
X-WR-TIMEZONE:America/Chicago
BEGIN:VTIMEZONE
TZID:America/Chicago
BEGIN:STANDARD
TZNAME:CST
DTSTART:20191103T020000
TZOFFSETFROM:-0500
TZOFFSETTO:-0600
RDATE:20201101T020000
END:STANDARD
BEGIN:DAYLIGHT
TZNAME:CDT
DTSTART:20190310T020000
TZOFFSETFROM:-0600
TZOFFSETTO:-0500
RDATE:20200308T020000
RDATE:20210314T020000
END:DAYLIGHT
END:VTIMEZONE
BEGIN:VEVENT
UID:a03bb01b-b27d-40c3-a4cf-dd85896cfb6d
DTSTAMP:20260425T114402Z
DESCRIPTION:Jealous of kids always getting to have all the fun?  Now it's y
 our turn!  \n\nJoin Challenger for an evening of ROCK & ROLL  featuring mu
 sic from some of the most significant rock bands ever!\n\nJam out to this 
 throwback\, laser light show spectacular and let your inner rock star shin
 e!\n\n$10 General Admission
DTSTART;TZID=America/Chicago:20200117T190000
DTEND;TZID=America/Chicago:20200117T210000
LOCATION:
SUMMARY:Laser Metallica
END:VEVENT
END:VCALENDAR
