BEGIN:VCALENDAR
VERSION:2.0
PRODID:-//www.clcnwi.com//NONSGML kigkonsult.se iCalcreator 2.30.10//
CALSCALE:GREGORIAN
METHOD:PUBLISH
UID:9d4c1b08-da49-4bc5-a915-cf6d0b99de34
X-WR-CALDESC:
X-WR-RELCALID:b40c0986d451cbacd349049eaca49413
X-WR-TIMEZONE:America/Chicago
BEGIN:VTIMEZONE
TZID:America/Chicago
BEGIN:STANDARD
TZNAME:CST
DTSTART:20191103T020000
TZOFFSETFROM:-0500
TZOFFSETTO:-0600
RDATE:20201101T020000
END:STANDARD
BEGIN:DAYLIGHT
TZNAME:CDT
DTSTART:20190310T020000
TZOFFSETFROM:-0600
TZOFFSETTO:-0500
RDATE:20200308T020000
RDATE:20210314T020000
END:DAYLIGHT
END:VTIMEZONE
BEGIN:VEVENT
UID:6ff93f0e-86e4-43f0-a79a-224cea2df175
DTSTAMP:20260425T115058Z
DESCRIPTION:
DTSTART;TZID=America/Chicago:20200103T130000
DTEND;TZID=America/Chicago:20200103T140000
LOCATION:
SUMMARY:Winter Break STEM Pop Up 1PM- 2PM Grades 4-6
END:VEVENT
END:VCALENDAR
