BEGIN:VCALENDAR
VERSION:2.0
PRODID:-//www.clcnwi.com//NONSGML kigkonsult.se iCalcreator 2.30.10//
CALSCALE:GREGORIAN
METHOD:PUBLISH
UID:76b1e298-2326-4db9-8d7d-0c429ef9c19f
X-WR-CALDESC:
X-WR-RELCALID:9a86e09e494459b81b597ea026c78c69
X-WR-TIMEZONE:America/Chicago
BEGIN:VTIMEZONE
TZID:America/Chicago
BEGIN:STANDARD
TZNAME:CST
DTSTART:20191103T020000
TZOFFSETFROM:-0500
TZOFFSETTO:-0600
RDATE:20201101T020000
END:STANDARD
BEGIN:DAYLIGHT
TZNAME:CDT
DTSTART:20190310T020000
TZOFFSETFROM:-0600
TZOFFSETTO:-0500
RDATE:20200308T020000
RDATE:20210314T020000
END:DAYLIGHT
END:VTIMEZONE
BEGIN:VEVENT
UID:a6532efd-8f96-4e96-ae5e-56b16cce4480
DTSTAMP:20260425T114854Z
DESCRIPTION:
DTSTART;TZID=America/Chicago:20200103T100000
DTEND;TZID=America/Chicago:20200103T110000
LOCATION:
SUMMARY:Winter Break STEM Pop Up 10AM-11AM Grades K-3
END:VEVENT
END:VCALENDAR
