BEGIN:VCALENDAR
VERSION:2.0
PRODID:-//www.clcnwi.com//NONSGML kigkonsult.se iCalcreator 2.30.10//
CALSCALE:GREGORIAN
METHOD:PUBLISH
UID:26b73ab2-0ea9-490b-9d93-bdb4e86cfc19
X-WR-CALDESC:
X-WR-RELCALID:6294d19fac2dabe380b605628c4ca061
X-WR-TIMEZONE:America/Chicago
BEGIN:VTIMEZONE
TZID:America/Chicago
BEGIN:STANDARD
TZNAME:CST
DTSTART:20191103T020000
TZOFFSETFROM:-0500
TZOFFSETTO:-0600
RDATE:20201101T020000
END:STANDARD
BEGIN:DAYLIGHT
TZNAME:CDT
DTSTART:20190310T020000
TZOFFSETFROM:-0600
TZOFFSETTO:-0500
RDATE:20200308T020000
RDATE:20210314T020000
END:DAYLIGHT
END:VTIMEZONE
BEGIN:VEVENT
UID:8a55809c-d3a9-4dc1-b7b2-08dac0580681
DTSTAMP:20260425T131209Z
DESCRIPTION:
DTSTART;TZID=America/Chicago:20191223T130000
DTEND;TZID=America/Chicago:20191223T140000
LOCATION:2300 173rd Street\, Hammond\, IN
SUMMARY:Laser Holiday Pop Up Event 1:00 pm
END:VEVENT
END:VCALENDAR
