BEGIN:VCALENDAR
VERSION:2.0
PRODID:-//www.clcnwi.com//NONSGML kigkonsult.se iCalcreator 2.30.10//
CALSCALE:GREGORIAN
METHOD:PUBLISH
UID:d8beb1a3-f7d3-475f-ae00-3a306eaf76cb
X-WR-CALDESC:Join us for hands-on\, cold weather and sensory friendly scien
 ce fun. Come early and explore our Winter Wonder-LAB for 'cool'  science e
 xperiments comparing our Spaceship Earth to its neighbor the Red Planet. T
 hen watch the 60-minute popular holiday program The Star of Bethlehem\, fo
 llowed by a highly entertaining holiday laser show.  Guests will want to s
 ing along!\n\nThe Star of Bethlehem is about the biblical rendition of the
  Wisemen following the rise of a new star\, and offers scientific explanat
 ions for what this phenomenon might have been. It also gives examples of h
 ow the movements of heavenly bodies in the skies were used at different ti
 mes throughout history to place and design structures\, or even predict ev
 ents on Earth.\n\n***To celebrate the Season of Giving\, and in support of
  A Sure Foundation\, we will be accepting winter coats and clothes for tho
 se in need in Northwest Indiana.  Clothes should be clean and ready to wea
 r\, new or used\, and in any style for both adults and children.\n\nOn beh
 alf of this organization\, a collection box will be set up at the registra
 tion table for attendees to drop off donations of:\n\nWinter Coats\nSweate
 rs\nJackets\nSweatshirts\nScarves\nHats\nMittens/Gloves\nOr any other oute
 rwear that will keep someone warm
X-WR-RELCALID:ae71eef9a773965142c1124eb5d62b03
X-WR-TIMEZONE:America/Chicago
BEGIN:VTIMEZONE
TZID:America/Chicago
BEGIN:STANDARD
TZNAME:CST
DTSTART:20191103T020000
TZOFFSETFROM:-0500
TZOFFSETTO:-0600
RDATE:20201101T020000
END:STANDARD
BEGIN:DAYLIGHT
TZNAME:CDT
DTSTART:20190310T020000
TZOFFSETFROM:-0600
TZOFFSETTO:-0500
RDATE:20200308T020000
RDATE:20210314T020000
END:DAYLIGHT
END:VTIMEZONE
BEGIN:VEVENT
UID:209943da-8480-47da-96d9-19d32e3f3017
DTSTAMP:20260425T131925Z
DESCRIPTION:Join us for hands-on\, cold weather and sensory friendly scienc
 e fun. Come early and explore our Winter Wonder-LAB for 'cool'  science ex
 periments comparing our Spaceship Earth to its neighbor the Red Planet. Th
 en watch the 60-minute popular holiday program The Star of Bethlehem\, fol
 lowed by a highly entertaining holiday laser show.  Guests will want to si
 ng along!\n\nThe Star of Bethlehem is about the biblical rendition of the 
 Wisemen following the rise of a new star\, and offers scientific explanati
 ons for what this phenomenon might have been. It also gives examples of ho
 w the movements of heavenly bodies in the skies were used at different tim
 es throughout history to place and design structures\, or even predict eve
 nts on Earth.\n\n***To celebrate the Season of Giving\, and in support of 
 A Sure Foundation\, we will be accepting winter coats and clothes for thos
 e in need in Northwest Indiana.  Clothes should be clean and ready to wear
 \, new or used\, and in any style for both adults and children.\n\nOn beha
 lf of this organization\, a collection box will be set up at the registrat
 ion table for attendees to drop off donations of:\n\nWinter Coats\nSweater
 s\nJackets\nSweatshirts\nScarves\nHats\nMittens/Gloves\nOr any other outer
 wear that will keep someone warm
DTSTART;TZID=America/Chicago:20191220T170000
DTEND;TZID=America/Chicago:20191220T200000
LOCATION:The Challenger Learning Center of Northwest Indiana
SUMMARY:Winter Wonder Lab & Holiday Show
END:VEVENT
END:VCALENDAR
