BEGIN:VCALENDAR
VERSION:2.0
PRODID:-//www.clcnwi.com//NONSGML kigkonsult.se iCalcreator 2.30.10//
CALSCALE:GREGORIAN
METHOD:PUBLISH
UID:e027c3c9-5403-4321-befd-a86702a3e7d2
X-WR-CALDESC:Jealous of kids always getting to have all the fun?  Now it's 
 your turn!  \n\nJoin Challenger for an evening of ROCK & ROLL  featuring m
 usic from some of the most significant rock bands ever!\n\nJam out to this
  throwback\, laser light show spectacular and let your inner rock star shi
 ne!\n\n$10 General Admission
X-WR-RELCALID:f41fd40a29728672c2ae2166bdca7829
X-WR-TIMEZONE:America/Chicago
BEGIN:VTIMEZONE
TZID:America/Chicago
BEGIN:STANDARD
TZNAME:CST
DTSTART:20191103T020000
TZOFFSETFROM:-0500
TZOFFSETTO:-0600
RDATE:20201101T020000
END:STANDARD
BEGIN:DAYLIGHT
TZNAME:CDT
DTSTART:20190310T020000
TZOFFSETFROM:-0600
TZOFFSETTO:-0500
RDATE:20200308T020000
RDATE:20210314T020000
END:DAYLIGHT
END:VTIMEZONE
BEGIN:VEVENT
UID:0db9d3ea-cc8b-4558-8edd-6d143f7ed851
DTSTAMP:20260425T145900Z
DESCRIPTION:Jealous of kids always getting to have all the fun?  Now it's y
 our turn!  \n\nJoin Challenger for an evening of ROCK & ROLL  featuring mu
 sic from some of the most significant rock bands ever!\n\nJam out to this 
 throwback\, laser light show spectacular and let your inner rock star shin
 e!\n\n$10 General Admission
DTSTART;TZID=America/Chicago:20191115T190000
DTEND;TZID=America/Chicago:20191115T210000
LOCATION:
SUMMARY:Laser U2 Extravaganza
END:VEVENT
END:VCALENDAR
