BEGIN:VCALENDAR
VERSION:2.0
PRODID:-//www.clcnwi.com//NONSGML kigkonsult.se iCalcreator 2.30.10//
CALSCALE:GREGORIAN
METHOD:PUBLISH
UID:8157b7a8-8a54-49c7-8e58-3ec0b503d248
X-WR-CALDESC:In celebration of Halloween\, Challenger invites family and fr
 iends of all ages to this year's Mad Science: Journey to Mars event!\n\nLe
 arn more about the red planet through our Journey to Mars hands-on science
  activities\, planetarium shows\, 15 minute Mad Lab Lara Shows and more! 
 \n\nMad Science: Journey to Mars is an open-house style event with planeta
 rium and Fright Light laser shows running every 45 minutes. Entrance fee i
 s FREE\, however you can add-on a planetarium and laser show for just $8.0
 0 per adult and $5.00 per child. \n\nHalloween costumes and attire are enc
 ouraged\, as there will be hourly costume contests! Be sure to keep costum
 es public/family appropriate. And don't forget to enjoy a sweet treat from
  our Boo-Licious Bake Sale!
X-WR-RELCALID:d396d443947650ba68d61ea951b0aacb
X-WR-TIMEZONE:America/Chicago
BEGIN:VTIMEZONE
TZID:America/Chicago
BEGIN:STANDARD
TZNAME:CST
DTSTART:20181104T020000
TZOFFSETFROM:-0500
TZOFFSETTO:-0600
RDATE:20191103T020000
RDATE:20201101T020000
END:STANDARD
BEGIN:DAYLIGHT
TZNAME:CDT
DTSTART:20190310T020000
TZOFFSETFROM:-0600
TZOFFSETTO:-0500
RDATE:20200308T020000
RDATE:20210314T020000
END:DAYLIGHT
END:VTIMEZONE
BEGIN:VEVENT
UID:90d50bfa-1f0d-442f-bd4e-ca46e2107b1e
DTSTAMP:20260425T165714Z
DESCRIPTION:In celebration of Halloween\, Challenger invites family and fri
 ends of all ages to this year's Mad Science: Journey to Mars event!\n\nLea
 rn more about the red planet through our Journey to Mars hands-on science 
 activities\, planetarium shows\, 15 minute Mad Lab Lara Shows and more! \n
 \nMad Science: Journey to Mars is an open-house style event with planetari
 um and Fright Light laser shows running every 45 minutes. Entrance fee is 
 FREE\, however you can add-on a planetarium and laser show for just $8.00 
 per adult and $5.00 per child. \n\nHalloween costumes and attire are encou
 raged\, as there will be hourly costume contests! Be sure to keep costumes
  public/family appropriate. And don't forget to enjoy a sweet treat from o
 ur Boo-Licious Bake Sale!
DTSTART;TZID=America/Chicago:20191026T100000
DTEND;TZID=America/Chicago:20191026T140000
LOCATION:Challenger Learning Center
SUMMARY:Mad Science: Howlin' at the Moon
END:VEVENT
END:VCALENDAR
