BEGIN:VCALENDAR
VERSION:2.0
PRODID:-//www.clcnwi.com//NONSGML kigkonsult.se iCalcreator 2.30.10//
CALSCALE:GREGORIAN
METHOD:PUBLISH
UID:ec5cc8fd-dd5b-47af-a692-07ccedc80c4f
X-WR-CALDESC:Jealous of kids always getting to have all the fun?  Now it's 
 your turn!  \n\nJoin Challenger for an evening of ROCK & ROLL  featuring m
 usic from some of the most significant rock bands ever!\n\nJam out to this
  throwback\, laser light show spectacular and let your inner rock star shi
 ne!\n\n$10 General Admission
X-WR-RELCALID:0ab3cdb256fbf38c04ad3344d99558d6
X-WR-TIMEZONE:America/Chicago
BEGIN:VTIMEZONE
TZID:America/Chicago
BEGIN:STANDARD
TZNAME:CST
DTSTART:20181104T020000
TZOFFSETFROM:-0500
TZOFFSETTO:-0600
RDATE:20191103T020000
RDATE:20201101T020000
END:STANDARD
BEGIN:DAYLIGHT
TZNAME:CDT
DTSTART:20190310T020000
TZOFFSETFROM:-0600
TZOFFSETTO:-0500
RDATE:20200308T020000
RDATE:20210314T020000
END:DAYLIGHT
END:VTIMEZONE
BEGIN:VEVENT
UID:9aa73264-e205-4cfd-89a4-e4a4a3d2f70a
DTSTAMP:20260425T165123Z
DESCRIPTION:Jealous of kids always getting to have all the fun?  Now it's y
 our turn!  \n\nJoin Challenger for an evening of ROCK & ROLL  featuring mu
 sic from some of the most significant rock bands ever!\n\nJam out to this 
 throwback\, laser light show spectacular and let your inner rock star shin
 e!\n\n$10 General Admission
DTSTART;TZID=America/Chicago:20191018T190000
DTEND;TZID=America/Chicago:20191018T210000
LOCATION:
SUMMARY:Laser Vinyl Throwback Costume Party
END:VEVENT
END:VCALENDAR
