BEGIN:VCALENDAR
VERSION:2.0
PRODID:-//www.clcnwi.com//NONSGML kigkonsult.se iCalcreator 2.30.10//
CALSCALE:GREGORIAN
METHOD:PUBLISH
UID:7bfdb76d-c9dc-46f6-aa7b-aeafe753f532
X-WR-CALDESC:
X-WR-RELCALID:e984006a48264844a9caaef162ba3007
X-WR-TIMEZONE:America/Chicago
BEGIN:VTIMEZONE
TZID:America/Chicago
BEGIN:STANDARD
TZNAME:CST
DTSTART:20181104T020000
TZOFFSETFROM:-0500
TZOFFSETTO:-0600
RDATE:20191103T020000
RDATE:20201101T020000
END:STANDARD
BEGIN:DAYLIGHT
TZNAME:CDT
DTSTART:20190310T020000
TZOFFSETFROM:-0600
TZOFFSETTO:-0500
RDATE:20200308T020000
RDATE:20210314T020000
END:DAYLIGHT
END:VTIMEZONE
BEGIN:VEVENT
UID:c3a764c8-627b-4099-a407-8eac923774ad
DTSTAMP:20260425T170832Z
DESCRIPTION:
DTSTART;TZID=America/Chicago:20191012T090000
DTEND;TZID=America/Chicago:20191012T100000
LOCATION:
SUMMARY:Yoga Under the Stars
END:VEVENT
END:VCALENDAR
