BEGIN:VCALENDAR
VERSION:2.0
PRODID:-//www.clcnwi.com//NONSGML kigkonsult.se iCalcreator 2.30.10//
CALSCALE:GREGORIAN
METHOD:PUBLISH
UID:6e9e309b-6a19-438d-87aa-5a5aa5aa5e42
X-WR-CALDESC:The Challenger Learning Center of Northwest Indiana invites pa
 rent-educators and their children to join us for a day of learning and fun
 . Our Homeschool Adventure Days provide opportunities for students in grad
 e kindergarten to 8 and their parents. \n\n
X-WR-RELCALID:d4bfb2fd1fbefea4a4e80088a0cafbb0
X-WR-TIMEZONE:America/Chicago
BEGIN:VTIMEZONE
TZID:America/Chicago
BEGIN:STANDARD
TZNAME:CST
DTSTART:20181104T020000
TZOFFSETFROM:-0500
TZOFFSETTO:-0600
RDATE:20191103T020000
RDATE:20201101T020000
END:STANDARD
BEGIN:DAYLIGHT
TZNAME:CDT
DTSTART:20190310T020000
TZOFFSETFROM:-0600
TZOFFSETTO:-0500
RDATE:20200308T020000
RDATE:20210314T020000
END:DAYLIGHT
END:VTIMEZONE
BEGIN:VEVENT
UID:777b4fd0-9cb2-4142-a9d5-7402a091853b
DTSTAMP:20260425T183754Z
DESCRIPTION:The Challenger Learning Center of Northwest Indiana invites par
 ent-educators and their children to join us for a day of learning and fun.
  Our Homeschool Adventure Days provide opportunities for students in grade
  kindergarten to 8 and their parents. \n\n
DTSTART;TZID=America/Chicago:20190925T090000
DTEND;TZID=America/Chicago:20190925T113000
LOCATION:The Challenger Learning Center of Northwest Indiana (on the campus
  of Purdue University Northwest)
SUMMARY:Homeschool Adventure Day
END:VEVENT
END:VCALENDAR
