BEGIN:VCALENDAR
VERSION:2.0
PRODID:-//www.clcnwi.com//NONSGML kigkonsult.se iCalcreator 2.30.10//
CALSCALE:GREGORIAN
METHOD:PUBLISH
UID:539d2d80-9a1d-47f1-b0e5-4a9f5767d58c
X-WR-CALDESC:Jealous of kids always getting to have all the fun?  Now it's 
 your turn!  \n\nJoin Challenger for an evening of ROCK & ROLL  featuring m
 usic from one of the most significant rock bands ever - Led Zeppelin!\n\nJ
 am out to this throwback\, laser light show spectacular and let your inner
  rock star shine!\n\n$10 General Admission
X-WR-RELCALID:fc8880a112971ebf7f5cc322d5e8773d
X-WR-TIMEZONE:America/Chicago
BEGIN:VTIMEZONE
TZID:America/Chicago
BEGIN:STANDARD
TZNAME:CST
DTSTART:20181104T020000
TZOFFSETFROM:-0500
TZOFFSETTO:-0600
RDATE:20191103T020000
RDATE:20201101T020000
END:STANDARD
BEGIN:DAYLIGHT
TZNAME:CDT
DTSTART:20190310T020000
TZOFFSETFROM:-0600
TZOFFSETTO:-0500
RDATE:20200308T020000
RDATE:20210314T020000
END:DAYLIGHT
END:VTIMEZONE
BEGIN:VEVENT
UID:259ab3c7-d988-4af0-8ce6-5cac911cc712
DTSTAMP:20260425T184034Z
DESCRIPTION:Jealous of kids always getting to have all the fun?  Now it's y
 our turn!  \n\nJoin Challenger for an evening of ROCK & ROLL  featuring mu
 sic from one of the most significant rock bands ever - Led Zeppelin!\n\nJa
 m out to this throwback\, laser light show spectacular and let your inner 
 rock star shine!\n\n$10 General Admission
DTSTART;TZID=America/Chicago:20190920T190000
DTEND;TZID=America/Chicago:20190920T210000
LOCATION:
SUMMARY:Laser Led Zeppelin Adult Only Event
END:VEVENT
END:VCALENDAR
