BEGIN:VCALENDAR
VERSION:2.0
PRODID:-//www.clcnwi.com//NONSGML kigkonsult.se iCalcreator 2.30.10//
CALSCALE:GREGORIAN
METHOD:PUBLISH
UID:167c5534-a5ea-454f-b2f6-5191bbef355d
X-WR-CALDESC:
X-WR-RELCALID:d7d2ded595cde1325e910b1d0e0fc9a2
X-WR-TIMEZONE:America/Chicago
BEGIN:VTIMEZONE
TZID:America/Chicago
BEGIN:STANDARD
TZNAME:CST
DTSTART:20181104T020000
TZOFFSETFROM:-0500
TZOFFSETTO:-0600
RDATE:20191103T020000
RDATE:20201101T020000
END:STANDARD
BEGIN:DAYLIGHT
TZNAME:CDT
DTSTART:20190310T020000
TZOFFSETFROM:-0600
TZOFFSETTO:-0500
RDATE:20200308T020000
RDATE:20210314T020000
END:DAYLIGHT
END:VTIMEZONE
BEGIN:VEVENT
UID:921a1a50-e150-489e-b052-39ee699356db
DTSTAMP:20260425T185429Z
DESCRIPTION:
DTSTART;TZID=America/Chicago:20190913T170000
DTEND;TZID=America/Chicago:20190913T190000
LOCATION:
SUMMARY:Fall Back into Science Evening Open House
END:VEVENT
END:VCALENDAR
