BEGIN:VCALENDAR
VERSION:2.0
PRODID:-//www.clcnwi.com//NONSGML kigkonsult.se iCalcreator 2.30.10//
CALSCALE:GREGORIAN
METHOD:PUBLISH
UID:c362fb92-457f-4cdd-affe-67252297704e
X-WR-CALDESC:Please join us for our Special Needs Science Day!\n\nThis sess
 ion is geared toward all ages and will be located inside our Challenger Le
 arning Center building at 2300 173rd St. Hammond\, IN. All our facilities 
 are ADA accessible and each participant is required to have a caregiver or
  staff with them. Caregivers may bring more than one participant. To ensur
 e that each participant can experience all activities\, space is limited t
 o individuals with special needs and their caregivers. \n\nFUN FOR ALL!!!!
  \nGLOW ROOM | SCIENCE BINGO | HANDS-ON LAB ACTIVITIES | PLANETARIUM SHOWS
  \n15 MINUTE SCIENCE SHOWS | GALAXY GIFT SHOP | QUIET SENSORY BREAK ROOM\n
 \nIf you have any questions regarding this event please contact us at (219
 ) 989-3250 or email us at questions@clcnwi.com.\n\n\n\nWe look forward to 
 seeing you at our new event. We are POSITIVE it will be a great time for a
 ll!\n\n\n\n\n**early online registration: $8.00 per participant (click the
  orange box to the right to register)\n\n**day of registration: $10.00 per
  participant
X-WR-RELCALID:57805d7523f6ea30c4fc620fd5d84a54
X-WR-TIMEZONE:America/Chicago
BEGIN:VTIMEZONE
TZID:America/Chicago
BEGIN:STANDARD
TZNAME:CST
DTSTART:20181104T020000
TZOFFSETFROM:-0500
TZOFFSETTO:-0600
RDATE:20191103T020000
RDATE:20201101T020000
END:STANDARD
BEGIN:DAYLIGHT
TZNAME:CDT
DTSTART:20190310T020000
TZOFFSETFROM:-0600
TZOFFSETTO:-0500
RDATE:20200308T020000
END:DAYLIGHT
END:VTIMEZONE
BEGIN:VEVENT
UID:81f40112-c7fa-4564-a03a-ff9299b2196f
DTSTAMP:20260425T202632Z
DESCRIPTION:Please join us for our Special Needs Science Day!\n\nThis sessi
 on is geared toward all ages and will be located inside our Challenger Lea
 rning Center building at 2300 173rd St. Hammond\, IN. All our facilities a
 re ADA accessible and each participant is required to have a caregiver or 
 staff with them. Caregivers may bring more than one participant. To ensure
  that each participant can experience all activities\, space is limited to
  individuals with special needs and their caregivers. \n\nFUN FOR ALL!!!! 
 \nGLOW ROOM | SCIENCE BINGO | HANDS-ON LAB ACTIVITIES | PLANETARIUM SHOWS 
 \n15 MINUTE SCIENCE SHOWS | GALAXY GIFT SHOP | QUIET SENSORY BREAK ROOM\n
 \nIf you have any questions regarding this event please contact us at (219
 ) 989-3250 or email us at questions@clcnwi.com.\n\n\n\nWe look forward to 
 seeing you at our new event. We are POSITIVE it will be a great time for a
 ll!\n\n\n\n\n**early online registration: $8.00 per participant (click the
  orange box to the right to register)\n\n**day of registration: $10.00 per
  participant
DTSTART;TZID=America/Chicago:20190822T153000
DTEND;TZID=America/Chicago:20190822T183000
LOCATION:
SUMMARY:Special Needs Day
END:VEVENT
END:VCALENDAR
