BEGIN:VCALENDAR
VERSION:2.0
PRODID:-//www.clcnwi.com//NONSGML kigkonsult.se iCalcreator 2.30.10//
CALSCALE:GREGORIAN
METHOD:PUBLISH
UID:04ebaf81-70ac-4713-9f79-9a3af1b72f89
X-WR-CALDESC:
X-WR-RELCALID:71ba467217c4d31633adf44110957d35
X-WR-TIMEZONE:America/Chicago
BEGIN:VTIMEZONE
TZID:America/Chicago
BEGIN:STANDARD
TZNAME:CST
DTSTART:20181104T020000
TZOFFSETFROM:-0500
TZOFFSETTO:-0600
RDATE:20191103T020000
RDATE:20201101T020000
END:STANDARD
BEGIN:DAYLIGHT
TZNAME:CDT
DTSTART:20190310T020000
TZOFFSETFROM:-0600
TZOFFSETTO:-0500
RDATE:20200308T020000
END:DAYLIGHT
END:VTIMEZONE
BEGIN:VEVENT
UID:4e20590e-dfbb-449f-8197-2a5370d82b9a
DTSTAMP:20260425T203018Z
DESCRIPTION:
DTSTART;TZID=America/Chicago:20190809T100000
DTEND;TZID=America/Chicago:20190809T110000
LOCATION:Challenger Learning Center 2300 173rd Street
SUMMARY:Pop in Nature Science - K-3rd grade
END:VEVENT
END:VCALENDAR
