BEGIN:VCALENDAR
VERSION:2.0
PRODID:-//www.clcnwi.com//NONSGML kigkonsult.se iCalcreator 2.30.10//
CALSCALE:GREGORIAN
METHOD:PUBLISH
UID:081a013c-8b71-49f8-8917-fd4f21528480
X-WR-CALDESC:
X-WR-RELCALID:3b10bf6f19edc73817adf3d04e1d6354
X-WR-TIMEZONE:America/Chicago
BEGIN:VTIMEZONE
TZID:America/Chicago
BEGIN:STANDARD
TZNAME:CST
DTSTART:20181104T020000
TZOFFSETFROM:-0500
TZOFFSETTO:-0600
RDATE:20191103T020000
RDATE:20201101T020000
END:STANDARD
BEGIN:DAYLIGHT
TZNAME:CDT
DTSTART:20190310T020000
TZOFFSETFROM:-0600
TZOFFSETTO:-0500
RDATE:20200308T020000
END:DAYLIGHT
END:VTIMEZONE
BEGIN:VEVENT
UID:12438d0c-32e0-433b-ab91-aa871a6d8140
DTSTAMP:20260425T203458Z
DESCRIPTION:
DTSTART;TZID=America/Chicago:20190809T130000
DTEND;TZID=America/Chicago:20190809T140000
LOCATION:Challenger Learning Center 2300 173rd Street
SUMMARY:Pop in Nature Science - 4th - 6th grade
END:VEVENT
END:VCALENDAR
