BEGIN:VCALENDAR
VERSION:2.0
PRODID:-//www.clcnwi.com//NONSGML kigkonsult.se iCalcreator 2.30.10//
CALSCALE:GREGORIAN
METHOD:PUBLISH
UID:fc778926-98f7-44ce-90ab-1649fb340854
X-WR-CALDESC:
X-WR-RELCALID:16edbced3f9e7f2259e4c7378c4dee08
X-WR-TIMEZONE:America/Chicago
BEGIN:VTIMEZONE
TZID:America/Chicago
BEGIN:STANDARD
TZNAME:CST
DTSTART:20181104T020000
TZOFFSETFROM:-0500
TZOFFSETTO:-0600
RDATE:20191103T020000
RDATE:20201101T020000
END:STANDARD
BEGIN:DAYLIGHT
TZNAME:CDT
DTSTART:20190310T020000
TZOFFSETFROM:-0600
TZOFFSETTO:-0500
RDATE:20200308T020000
END:DAYLIGHT
END:VTIMEZONE
BEGIN:VEVENT
UID:ee6105fd-37d5-4aae-94d7-a3809f1fe6e6
DTSTAMP:20260425T203605Z
DESCRIPTION:
DTSTART;TZID=America/Chicago:20190802T100000
DTEND;TZID=America/Chicago:20190802T110000
LOCATION:Challenger Learning Center 2300 173rd Street
SUMMARY:Pop in Slime Science - K-3rd grade
END:VEVENT
END:VCALENDAR
