BEGIN:VCALENDAR
VERSION:2.0
PRODID:-//www.clcnwi.com//NONSGML kigkonsult.se iCalcreator 2.30.10//
CALSCALE:GREGORIAN
METHOD:PUBLISH
UID:ee3b2494-22db-40d3-a24b-5f3a42de071c
X-WR-CALDESC:
X-WR-RELCALID:327b69d9f026bc800b27b7f7596d7382
X-WR-TIMEZONE:America/Chicago
BEGIN:VTIMEZONE
TZID:America/Chicago
BEGIN:STANDARD
TZNAME:CST
DTSTART:20181104T020000
TZOFFSETFROM:-0500
TZOFFSETTO:-0600
RDATE:20191103T020000
RDATE:20201101T020000
END:STANDARD
BEGIN:DAYLIGHT
TZNAME:CDT
DTSTART:20190310T020000
TZOFFSETFROM:-0600
TZOFFSETTO:-0500
RDATE:20200308T020000
END:DAYLIGHT
END:VTIMEZONE
BEGIN:VEVENT
UID:5bdffaf1-0abb-414e-a5d4-11139917ee5f
DTSTAMP:20260425T202856Z
DESCRIPTION:
DTSTART;TZID=America/Chicago:20190802T130000
DTEND;TZID=America/Chicago:20190802T140000
LOCATION:Challenger Learning Center 2300 173rd Street
SUMMARY:Pop in Slime Science - 4th - 6th grade
END:VEVENT
END:VCALENDAR
