BEGIN:VCALENDAR
VERSION:2.0
PRODID:-//www.clcnwi.com//NONSGML kigkonsult.se iCalcreator 2.30.10//
CALSCALE:GREGORIAN
METHOD:PUBLISH
UID:589935b8-6c4f-4aa9-b752-b7dc7d1cee8c
X-WR-CALDESC:
X-WR-RELCALID:aec6026689b732badfa0cb8f5bc5ba4d
X-WR-TIMEZONE:America/Chicago
BEGIN:VTIMEZONE
TZID:America/Chicago
BEGIN:STANDARD
TZNAME:CST
DTSTART:20181104T020000
TZOFFSETFROM:-0500
TZOFFSETTO:-0600
RDATE:20191103T020000
RDATE:20201101T020000
END:STANDARD
BEGIN:DAYLIGHT
TZNAME:CDT
DTSTART:20190310T020000
TZOFFSETFROM:-0600
TZOFFSETTO:-0500
RDATE:20200308T020000
END:DAYLIGHT
END:VTIMEZONE
BEGIN:VEVENT
UID:a4c65e02-9b68-4335-8b3c-aa251f641929
DTSTAMP:20260425T221425Z
DESCRIPTION:
DTSTART;TZID=America/Chicago:20190720T123000
DTEND;TZID=America/Chicago:20190720T143000
LOCATION:Challenger Learning Center 2300 173rd Street\, Hammond\, IN 46323
SUMMARY:Apollo 11 50th Anniversary Celebration 12:30 PM Moon Mission
END:VEVENT
END:VCALENDAR
